BEGIN:VCALENDAR
X-WR-TIMEZONE:Europe/London
PRODID:-//Apple Inc.//iCal 3.0//EN
CALSCALE:GREGORIAN
X-LOTUS-CHARSET:UTF-8
X-WR-CALNAME:Ashton Under Hill First School Medical Calendar
X-WR-CALDESC:Ashton Under Hill First School Medical Calendar
VERSION:2.0
METHOD:PUBLISH
BEGIN:VEVENT
DTSTAMP:20260422T134600
DTSTART:20260423
UID:http://ashton.greenhousecms.co.uk/Diary/YrR-Heights--Weight-Check-2026-04-23/index.asp?PCID=157434
URL;VALUE=URI:http://ashton.greenhousecms.co.uk/Diary/YrR-Heights--Weight-Check-2026-04-23
SUMMARY:YrR Heights &amp\; Weight Check
DESCRIPTION: More details - <a id="157434" href="http://ashton.greenhousecms.co.uk/Diary/YrR-Heights--Weight-Check-2026-04-23">http://ashton.greenhousecms.co.uk/Diary/YrR-Heights--Weight-Check-2026-04-23</a>
END:VEVENT
END:VCALENDAR
